BEGIN:VCALENDAR
VERSION:2.0
PRODID:-//Aliant Law - ECPv6.15.18//NONSGML v1.0//EN
CALSCALE:GREGORIAN
METHOD:PUBLISH
X-WR-CALNAME:Aliant Law
X-ORIGINAL-URL:https://aliantlaw.com
X-WR-CALDESC:Events for Aliant Law
REFRESH-INTERVAL;VALUE=DURATION:PT1H
X-Robots-Tag:noindex
X-PUBLISHED-TTL:PT1H
BEGIN:VTIMEZONE
TZID:UTC
BEGIN:STANDARD
TZOFFSETFROM:+0000
TZOFFSETTO:+0000
TZNAME:UTC
DTSTART:20240101T000000
END:STANDARD
END:VTIMEZONE
BEGIN:VEVENT
DTSTART;TZID=UTC:20260325T150000
DTEND;TZID=UTC:20260325T160000
DTSTAMP:20260422T200256
CREATED:20230202T164312Z
LAST-MODIFIED:20230202T164312Z
UID:389260-1774450800-1774454400@aliantlaw.com
SUMMARY:Practice Group: Labour & Employment
DESCRIPTION:
URL:https://aliantlaw.com/event/practice-group-labour-employment-2026-03-25/
CATEGORIES:Practice Area Group Meeting
END:VEVENT
BEGIN:VEVENT
DTSTART;TZID=UTC:20260311T150000
DTEND;TZID=UTC:20260311T160000
DTSTAMP:20260422T200256
CREATED:20230202T163429Z
LAST-MODIFIED:20230202T163429Z
UID:389206-1773241200-1773244800@aliantlaw.com
SUMMARY:Practice Group Meeting: Corporate
DESCRIPTION:
URL:https://aliantlaw.com/event/practice-group-meeting-corporate-2026-03-11/
CATEGORIES:Practice Area Group Meeting
END:VEVENT
BEGIN:VEVENT
DTSTART;TZID=UTC:20260310T150000
DTEND;TZID=UTC:20260310T160000
DTSTAMP:20260422T200256
CREATED:20230202T163827Z
LAST-MODIFIED:20230202T163827Z
UID:389204-1773154800-1773158400@aliantlaw.com
SUMMARY:Practice Group Meeting: Real Estate
DESCRIPTION:
URL:https://aliantlaw.com/event/practice-group-meeting-real-estate-2026-03-10/
CATEGORIES:Practice Area Group Meeting
END:VEVENT
BEGIN:VEVENT
DTSTART;TZID=UTC:20260304T150000
DTEND;TZID=UTC:20260304T160000
DTSTAMP:20260422T200256
CREATED:20230202T162849Z
LAST-MODIFIED:20230202T162849Z
UID:389182-1772636400-1772640000@aliantlaw.com
SUMMARY:Practice Group Meeting: Litigation
DESCRIPTION:
URL:https://aliantlaw.com/event/practice-group-meeting-litigation-2026-03-04/
CATEGORIES:Practice Area Group Meeting
END:VEVENT
BEGIN:VEVENT
DTSTART;TZID=UTC:20260303T150000
DTEND;TZID=UTC:20260303T160000
DTSTAMP:20260422T200256
CREATED:20230202T163152Z
LAST-MODIFIED:20230202T163152Z
UID:389178-1772550000-1772553600@aliantlaw.com
SUMMARY:Practice Group Meeting: Private Client Services
DESCRIPTION:
URL:https://aliantlaw.com/event/practice-group-meeting-private-client-services-2026-03-03/
CATEGORIES:Practice Area Group Meeting
END:VEVENT
BEGIN:VEVENT
DTSTART;TZID=UTC:20260225T150000
DTEND;TZID=UTC:20260225T160000
DTSTAMP:20260422T200256
CREATED:20230202T164312Z
LAST-MODIFIED:20230202T164312Z
UID:389147-1772031600-1772035200@aliantlaw.com
SUMMARY:Practice Group: Labour & Employment
DESCRIPTION:
URL:https://aliantlaw.com/event/practice-group-labour-employment-2026-02-25/
CATEGORIES:Practice Area Group Meeting
END:VEVENT
BEGIN:VEVENT
DTSTART;TZID=UTC:20260211T150000
DTEND;TZID=UTC:20260211T160000
DTSTAMP:20260422T200256
CREATED:20230202T163429Z
LAST-MODIFIED:20230202T163429Z
UID:389116-1770822000-1770825600@aliantlaw.com
SUMMARY:Practice Group Meeting: Corporate
DESCRIPTION:
URL:https://aliantlaw.com/event/practice-group-meeting-corporate-2026-02-11/
CATEGORIES:Practice Area Group Meeting
END:VEVENT
BEGIN:VEVENT
DTSTART;TZID=UTC:20260210T150000
DTEND;TZID=UTC:20260210T160000
DTSTAMP:20260422T200256
CREATED:20230202T163827Z
LAST-MODIFIED:20230202T163827Z
UID:389114-1770735600-1770739200@aliantlaw.com
SUMMARY:Practice Group Meeting: Real Estate
DESCRIPTION:
URL:https://aliantlaw.com/event/practice-group-meeting-real-estate-2026-02-10/
CATEGORIES:Practice Area Group Meeting
END:VEVENT
BEGIN:VEVENT
DTSTART;TZID=UTC:20260204T150000
DTEND;TZID=UTC:20260204T160000
DTSTAMP:20260422T200256
CREATED:20230202T162849Z
LAST-MODIFIED:20230202T162849Z
UID:389100-1770217200-1770220800@aliantlaw.com
SUMMARY:Practice Group Meeting: Litigation
DESCRIPTION:
URL:https://aliantlaw.com/event/practice-group-meeting-litigation-2026-02-04/
CATEGORIES:Practice Area Group Meeting
END:VEVENT
BEGIN:VEVENT
DTSTART;TZID=UTC:20260203T150000
DTEND;TZID=UTC:20260203T160000
DTSTAMP:20260422T200256
CREATED:20230202T163152Z
LAST-MODIFIED:20230202T163152Z
UID:389099-1770130800-1770134400@aliantlaw.com
SUMMARY:Practice Group Meeting: Private Client Services
DESCRIPTION:
URL:https://aliantlaw.com/event/practice-group-meeting-private-client-services-2026-02-03/
CATEGORIES:Practice Area Group Meeting
END:VEVENT
BEGIN:VEVENT
DTSTART;TZID=UTC:20260128T150000
DTEND;TZID=UTC:20260128T160000
DTSTAMP:20260422T200256
CREATED:20230202T164312Z
LAST-MODIFIED:20230202T164312Z
UID:389087-1769612400-1769616000@aliantlaw.com
SUMMARY:Practice Group: Labour & Employment
DESCRIPTION:
URL:https://aliantlaw.com/event/practice-group-labour-employment-2026-01-28/
CATEGORIES:Practice Area Group Meeting
END:VEVENT
BEGIN:VEVENT
DTSTART;TZID=UTC:20260114T150000
DTEND;TZID=UTC:20260114T160000
DTSTAMP:20260422T200256
CREATED:20230202T163429Z
LAST-MODIFIED:20230202T163429Z
UID:389024-1768402800-1768406400@aliantlaw.com
SUMMARY:Practice Group Meeting: Corporate
DESCRIPTION:
URL:https://aliantlaw.com/event/practice-group-meeting-corporate-2026-01-14/
CATEGORIES:Practice Area Group Meeting
END:VEVENT
BEGIN:VEVENT
DTSTART;TZID=UTC:20260113T150000
DTEND;TZID=UTC:20260113T160000
DTSTAMP:20260422T200256
CREATED:20230202T163827Z
LAST-MODIFIED:20230202T163827Z
UID:389023-1768316400-1768320000@aliantlaw.com
SUMMARY:Practice Group Meeting: Real Estate
DESCRIPTION:
URL:https://aliantlaw.com/event/practice-group-meeting-real-estate-2026-01-13/
CATEGORIES:Practice Area Group Meeting
END:VEVENT
BEGIN:VEVENT
DTSTART;TZID=UTC:20260107T150000
DTEND;TZID=UTC:20260107T160000
DTSTAMP:20260422T200256
CREATED:20230202T162849Z
LAST-MODIFIED:20230202T162849Z
UID:389016-1767798000-1767801600@aliantlaw.com
SUMMARY:Practice Group Meeting: Litigation
DESCRIPTION:
URL:https://aliantlaw.com/event/practice-group-meeting-litigation-2026-01-07/
CATEGORIES:Practice Area Group Meeting
END:VEVENT
BEGIN:VEVENT
DTSTART;TZID=UTC:20260106T150000
DTEND;TZID=UTC:20260106T160000
DTSTAMP:20260422T200256
CREATED:20230202T163152Z
LAST-MODIFIED:20230202T163152Z
UID:389014-1767711600-1767715200@aliantlaw.com
SUMMARY:Practice Group Meeting: Private Client Services
DESCRIPTION:
URL:https://aliantlaw.com/event/practice-group-meeting-private-client-services-2026-01-06/
CATEGORIES:Practice Area Group Meeting
END:VEVENT
BEGIN:VEVENT
DTSTART;TZID=UTC:20251224T150000
DTEND;TZID=UTC:20251224T160000
DTSTAMP:20260422T200256
CREATED:20230202T164312Z
LAST-MODIFIED:20230202T164312Z
UID:388999-1766588400-1766592000@aliantlaw.com
SUMMARY:Practice Group: Labour & Employment
DESCRIPTION:
URL:https://aliantlaw.com/event/practice-group-labour-employment-2025-12-24/
CATEGORIES:Practice Area Group Meeting
END:VEVENT
BEGIN:VEVENT
DTSTART;TZID=UTC:20251210T150000
DTEND;TZID=UTC:20251210T160000
DTSTAMP:20260422T200256
CREATED:20230202T163429Z
LAST-MODIFIED:20230202T163429Z
UID:388954-1765378800-1765382400@aliantlaw.com
SUMMARY:Practice Group Meeting: Corporate
DESCRIPTION:
URL:https://aliantlaw.com/event/practice-group-meeting-corporate-2025-12-10/
CATEGORIES:Practice Area Group Meeting
END:VEVENT
BEGIN:VEVENT
DTSTART;TZID=UTC:20251209T150000
DTEND;TZID=UTC:20251209T160000
DTSTAMP:20260422T200256
CREATED:20230202T163827Z
LAST-MODIFIED:20230202T163827Z
UID:388953-1765292400-1765296000@aliantlaw.com
SUMMARY:Practice Group Meeting: Real Estate
DESCRIPTION:
URL:https://aliantlaw.com/event/practice-group-meeting-real-estate-2025-12-09/
CATEGORIES:Practice Area Group Meeting
END:VEVENT
BEGIN:VEVENT
DTSTART;TZID=UTC:20251203T150000
DTEND;TZID=UTC:20251203T160000
DTSTAMP:20260422T200256
CREATED:20230202T162849Z
LAST-MODIFIED:20230202T162849Z
UID:388927-1764774000-1764777600@aliantlaw.com
SUMMARY:Practice Group Meeting: Litigation
DESCRIPTION:
URL:https://aliantlaw.com/event/practice-group-meeting-litigation-2025-12-03/
CATEGORIES:Practice Area Group Meeting
END:VEVENT
BEGIN:VEVENT
DTSTART;TZID=UTC:20251202T150000
DTEND;TZID=UTC:20251202T160000
DTSTAMP:20260422T200256
CREATED:20230202T163152Z
LAST-MODIFIED:20230202T163152Z
UID:388925-1764687600-1764691200@aliantlaw.com
SUMMARY:Practice Group Meeting: Private Client Services
DESCRIPTION:
URL:https://aliantlaw.com/event/practice-group-meeting-private-client-services-2025-12-02/
CATEGORIES:Practice Area Group Meeting
END:VEVENT
BEGIN:VEVENT
DTSTART;TZID=UTC:20251126T150000
DTEND;TZID=UTC:20251126T160000
DTSTAMP:20260422T200256
CREATED:20230202T164312Z
LAST-MODIFIED:20230202T164312Z
UID:388916-1764169200-1764172800@aliantlaw.com
SUMMARY:Practice Group: Labour & Employment
DESCRIPTION:
URL:https://aliantlaw.com/event/practice-group-labour-employment-2025-11-26/
CATEGORIES:Practice Area Group Meeting
END:VEVENT
BEGIN:VEVENT
DTSTART;TZID=UTC:20251112T150000
DTEND;TZID=UTC:20251112T160000
DTSTAMP:20260422T200256
CREATED:20230202T163429Z
LAST-MODIFIED:20230202T163429Z
UID:388868-1762959600-1762963200@aliantlaw.com
SUMMARY:Practice Group Meeting: Corporate
DESCRIPTION:
URL:https://aliantlaw.com/event/practice-group-meeting-corporate-2025-11-12/
CATEGORIES:Practice Area Group Meeting
END:VEVENT
BEGIN:VEVENT
DTSTART;TZID=UTC:20251111T150000
DTEND;TZID=UTC:20251111T160000
DTSTAMP:20260422T200256
CREATED:20230202T163827Z
LAST-MODIFIED:20230202T163827Z
UID:388867-1762873200-1762876800@aliantlaw.com
SUMMARY:Practice Group Meeting: Real Estate
DESCRIPTION:
URL:https://aliantlaw.com/event/practice-group-meeting-real-estate-2025-11-11/
CATEGORIES:Practice Area Group Meeting
END:VEVENT
BEGIN:VEVENT
DTSTART;TZID=UTC:20251105T150000
DTEND;TZID=UTC:20251105T160000
DTSTAMP:20260422T200256
CREATED:20230202T162849Z
LAST-MODIFIED:20230202T162849Z
UID:388828-1762354800-1762358400@aliantlaw.com
SUMMARY:Practice Group Meeting: Litigation
DESCRIPTION:
URL:https://aliantlaw.com/event/practice-group-meeting-litigation-2025-11-05/
CATEGORIES:Practice Area Group Meeting
END:VEVENT
BEGIN:VEVENT
DTSTART;TZID=UTC:20251104T150000
DTEND;TZID=UTC:20251104T160000
DTSTAMP:20260422T200256
CREATED:20230202T163152Z
LAST-MODIFIED:20230202T163152Z
UID:388825-1762268400-1762272000@aliantlaw.com
SUMMARY:Practice Group Meeting: Private Client Services
DESCRIPTION:
URL:https://aliantlaw.com/event/practice-group-meeting-private-client-services-2025-11-04/
CATEGORIES:Practice Area Group Meeting
END:VEVENT
BEGIN:VEVENT
DTSTART;TZID=UTC:20251022T150000
DTEND;TZID=UTC:20251022T160000
DTSTAMP:20260422T200256
CREATED:20230202T164312Z
LAST-MODIFIED:20230202T164312Z
UID:388785-1761145200-1761148800@aliantlaw.com
SUMMARY:Practice Group: Labour & Employment
DESCRIPTION:
URL:https://aliantlaw.com/event/practice-group-labour-employment-2025-10-22/
CATEGORIES:Practice Area Group Meeting
END:VEVENT
BEGIN:VEVENT
DTSTART;TZID=UTC:20251014T150000
DTEND;TZID=UTC:20251014T160000
DTSTAMP:20260422T200256
CREATED:20230202T163827Z
LAST-MODIFIED:20230202T163827Z
UID:388723-1760454000-1760457600@aliantlaw.com
SUMMARY:Practice Group Meeting: Real Estate
DESCRIPTION:
URL:https://aliantlaw.com/event/practice-group-meeting-real-estate-2025-10-14/
CATEGORIES:Practice Area Group Meeting
END:VEVENT
BEGIN:VEVENT
DTSTART;TZID=UTC:20251008T150000
DTEND;TZID=UTC:20251008T160000
DTSTAMP:20260422T200256
CREATED:20230202T163429Z
LAST-MODIFIED:20230202T163429Z
UID:388681-1759935600-1759939200@aliantlaw.com
SUMMARY:Practice Group Meeting: Corporate
DESCRIPTION:
URL:https://aliantlaw.com/event/practice-group-meeting-corporate-2025-10-08/
CATEGORIES:Practice Area Group Meeting
END:VEVENT
BEGIN:VEVENT
DTSTART;TZID=UTC:20251007T150000
DTEND;TZID=UTC:20251007T160000
DTSTAMP:20260422T200256
CREATED:20230202T163152Z
LAST-MODIFIED:20230202T163152Z
UID:388680-1759849200-1759852800@aliantlaw.com
SUMMARY:Practice Group Meeting: Private Client Services
DESCRIPTION:
URL:https://aliantlaw.com/event/practice-group-meeting-private-client-services-2025-10-07/
CATEGORIES:Practice Area Group Meeting
END:VEVENT
BEGIN:VEVENT
DTSTART;TZID=UTC:20251001T150000
DTEND;TZID=UTC:20251001T160000
DTSTAMP:20260422T200256
CREATED:20230202T162849Z
LAST-MODIFIED:20230202T162849Z
UID:388630-1759330800-1759334400@aliantlaw.com
SUMMARY:Practice Group Meeting: Litigation
DESCRIPTION:
URL:https://aliantlaw.com/event/practice-group-meeting-litigation-2025-10-01/
CATEGORIES:Practice Area Group Meeting
END:VEVENT
END:VCALENDAR